BEGIN:VCALENDAR
VERSION:2.0
BEGIN:VEVENT
URL:http://supermesto.com/moia-stranitca/viewevent/outdoor-dacha 
DTSTART:20140318T000000
DTEND:20140321T000000
SUMMARY:Outdoor Dacha
DESCRIPTION:Тематика выставки

 

• Садовая и кемпинговая мебель, лежаки, шезлонги, зонты, качели.

• Грили, барбекю, мангалы, коптильни.

• Наборы посуды и приборов для дачи, контейнеры, одноразовая посуда, салфетки.

• Аксессуары для бани и сауны.

• Дачная и садовая скульптура, беседки, арки, тенты.

• Изделия для ландшафтного дизайна, цветоводства и дизайна интерьеров, декоративные заборы и ограждения.

• Садовое освещение.

• Мини–техника, электроинструмент.

• Садовый инструмент и хозяйственный инвентарь, теплицы; укрывной материал, системы полива.

• Биотуалеты.

• Детские игровые комплексы, надувные матрасы, бассейны; батуты, горки.
LOCATION:Москва, Россия
END:VEVENT
END:VCALENDAR