BEGIN:VCALENDAR
VERSION:2.0
BEGIN:VEVENT
URL:http://supermesto.com/moia-stranitca/viewevent/household-expo 
DTSTART:20140318T000000
DTEND:20140321T000000
SUMMARY:HouseHold Expo
DESCRIPTION:Посуда: cтекло, фарфор, хрусталь, столовые приборы и аксессуары
    Кухня: посуда для приготовления пищи, домашняя утварь, кухонные аксессуары
    Текстиль: скатерти и салфетки, банные полотенца и халаты, покрывала, гардины, занавески, постельное белье, декоративные подушки
    Пластик: аксессуары для дома и ванной комнаты, предметы для уборки помещений, пластмассовые изделия для дома
    Свет: люстры, торшеры, бра, настольные лампы
    Бытовая техника: миксеры, кухонные процессоры, мясорубки, соковыжималки, блендеры, хлебопечки, вафельницы, тостеры, электрочайники, кофемашины, кофемолки
    Horeca Leto. Профессинальная посуда, оборудование, текстиль для летних кафе и ресторанов
LOCATION:Москва, Россия
END:VEVENT
END:VCALENDAR