BEGIN:VCALENDAR
VERSION:2.0
BEGIN:VEVENT
URL:http://supermesto.com/moia-stranitca/viewevent/intermebel-2014-kazan 
DTSTART:20140603T000000
DTEND:20140606T000000
SUMMARY:ИНТЕРМЕБЕЛЬ - 2014 - Казань
DESCRIPTION:Тематика выставки:
Мебель для жилых и общественных помещений:
- мягкая мебель
- корпусная мебель
- мебель для спальни
- детская мебель
- мебель для гостиной
- мебель для кабинетов
- мебель для прихожей
- мебель для кухни
- мебель для ванной комнаты и сауны
- мебель для офисов и административных помещений
- мебель для ресторанов и кафе
Машины и оборудование для мебельного производства:
- станки и инструментыдля производства мебели
- клеи, лаки, краски, смолы
- обивочные и облицовочные материалы
Мебельная фурнитура:
-мебельные ручки, шурупы, гайки, болты, опоры, колеса, ролики
- уголки, планки, держатели, секции
- стеклодержатели, зеркалодержатели, полкодержатели
- петли, кронштейны
- механизмы
- фурнитура для мягкой мебели
Проектирование и дизайн интерьера:
- лестницы, камины
- зеркала, стекла, витражи
- текстиль в интерьере
- декор окна
- аксессуары и элементы интерьера
- художественная ковка и литье
- картины
- свет в интерьере
LOCATION:Казань, Россия
END:VEVENT
END:VCALENDAR