BEGIN:VCALENDAR
VERSION:2.0
BEGIN:VEVENT
URL:http://supermesto.com/moia-stranitca/viewevent/stylish-home-objects-tableware-osen 
DTSTART:20140915T000000
DTEND:20140918T000000
SUMMARY:Stylish Home. Objects & Tableware - Осень
DESCRIPTION:Посуда и декор стола премиум класса
    Столовые сервизы, бокалы, столовые наборы, подсвечники, предметы декорирования стола.
    Подарки
    Художественные подарочные изделия, новогодние подарки, эксклюзивные подарки, сувениры из серебра, керамики, фарфора и металла, декоративные свечи.
    Кухня
    Высококачественная посуда для приготовления пищи из различных материалов, кухонные инструменты, аксессуары, навесные системы, бытовая техника для кухни.
    Освещение
    Светильники, торшеры, люстры, электроинсталляция.
    Текстиль высокой ценовой категории
    Постельное белье, шторы, декоративные подушки, покрывала, пледы, текстиль для кухни.
    Флористический дизайн
    Букеты, цветочные корзины, настольные и интерьерные композиции из цветов и сухоцветов, зимние сады.
    Картины, фотографии и аксессуары
    Постеры, репродукции, багет, рамы
LOCATION:Москва, Россия
END:VEVENT
END:VCALENDAR