BEGIN:VCALENDAR
VERSION:2.0
BEGIN:VEVENT
URL:http://supermesto.com/moia-stranitca/viewevent/stylish-home-objects-tableware 
DTSTART:20140318T000000
DTEND:20140321T000000
SUMMARY:Stylish Home. Objects & Tableware
DESCRIPTION:международная специализированная выставка товаров для дома премиум класса, представляющая разнообразный ассортимент посуды, предметов интерьера и декора стола, подарков
LOCATION:Москва, Россия
END:VEVENT
END:VCALENDAR