BEGIN:VCALENDAR
VERSION:2.0
BEGIN:VEVENT
URL:http://supermesto.com/moia-stranitca/viewevent/mebel-furnitura-i-obivochnye-materialy 
DTSTART:20141124T000000
DTEND:20141128T000000
SUMMARY:Мебель, фурнитура и обивочные материалы
DESCRIPTION:Выставка определяет актуальные тенденции мебельного рынка и объединяет на своей площадке производителей и дистрибьюторов различных направлений с потребителями. Здесь представлен широкий выбор элитной и бюджетной мебели для спален, столовых, гостиных, детских, а также кухни от производителя, диваны и кресла, мебельная фурнитура, отделочные материалы и разнообразные предметы интерьера.
LOCATION:Москва, Россия
END:VEVENT
END:VCALENDAR