BEGIN:VCALENDAR
VERSION:2.0
BEGIN:VEVENT
URL:http://supermesto.com/moia-stranitca/viewevent/remont-kukhni-pod-kliuch 
DTSTART:20101013T120000
DTEND:20101021T150000
SUMMARY:Ремонт кухни под ключ
DESCRIPTION:Предложения исполнителей расположены в каталоге по категориям, так что вы сможете легко найти тех специалистов, которые осуществляют именно ремонт кухни.<br />• У каждого исполнителя имеется иллюстрированное фотографиями портфолио, в котором вы сможете посмотреть различные варианты отделки кухни под ключ.
LOCATION:Киев, Украина, Гришка, 6
END:VEVENT
END:VCALENDAR